View In:
ArcGIS JavaScript
ArcGIS Online Map Viewer
ArcGIS Earth
ArcMap
View Footprint In:
ArcGIS Online Map Viewer
Service Description: Multi-directional relief map service for La Crosse County, WI. Created from 20917 La Crosse County LiDAR flight.
Name: AGOL_ImageServices/Hillshade_MultiDirectional_2017
Description: Multi-directional relief map service for La Crosse County, WI. Created from 20917 La Crosse County LiDAR flight.
Single Fused Map Cache: false
Extent:
XMin: 1593022.68620563
YMin: 629847.73188282
XMax: 1729009.59043035
YMax: 764571.7978057
Spatial Reference: PROJCS["Lambert_Conformal_Conic_2SP",GEOGCS["GCS_Ellipse_Based",DATUM["D_Ellipse_Based",SPHEROID["Unknown",6378137.0,298.257222101]],PRIMEM["Greenwich",0.0],UNIT["Degree",0.0174532925199433]],PROJECTION["Lambert_Conformal_Conic"],PARAMETER["false_easting",1968503.937007874],PARAMETER["false_northing",0.0],PARAMETER["central_meridian",-90.0],PARAMETER["standard_parallel_1",42.73333333333333],PARAMETER["standard_parallel_2",44.06666666666667],PARAMETER["latitude_of_origin",42.0],UNIT["Foot (International)",0.3048]]
Initial Extent:
XMin: 1593022.68620563
YMin: 629847.73188282
XMax: 1729009.59043035
YMax: 764571.7978057
Spatial Reference: PROJCS["Lambert_Conformal_Conic_2SP",GEOGCS["GCS_Ellipse_Based",DATUM["D_Ellipse_Based",SPHEROID["Unknown",6378137.0,298.257222101]],PRIMEM["Greenwich",0.0],UNIT["Degree",0.0174532925199433]],PROJECTION["Lambert_Conformal_Conic"],PARAMETER["false_easting",1968503.937007874],PARAMETER["false_northing",0.0],PARAMETER["central_meridian",-90.0],PARAMETER["standard_parallel_1",42.73333333333333],PARAMETER["standard_parallel_2",44.06666666666667],PARAMETER["latitude_of_origin",42.0],UNIT["Foot (International)",0.3048]]
Full Extent:
XMin: 1593022.68620563
YMin: 629847.73188282
XMax: 1729009.59043035
YMax: 764571.7978057
Spatial Reference: PROJCS["Lambert_Conformal_Conic_2SP",GEOGCS["GCS_Ellipse_Based",DATUM["D_Ellipse_Based",SPHEROID["Unknown",6378137.0,298.257222101]],PRIMEM["Greenwich",0.0],UNIT["Degree",0.0174532925199433]],PROJECTION["Lambert_Conformal_Conic"],PARAMETER["false_easting",1968503.937007874],PARAMETER["false_northing",0.0],PARAMETER["central_meridian",-90.0],PARAMETER["standard_parallel_1",42.73333333333333],PARAMETER["standard_parallel_2",44.06666666666667],PARAMETER["latitude_of_origin",42.0],UNIT["Foot (International)",0.3048]]
Pixel Size X: 1.9981618700000012
Pixel Size Y: 1.9981618699999995
Band Count: 1
Pixel Type: U8
RasterFunction Infos: {"rasterFunctionInfos": [{
"name": "None",
"description": "",
"help": ""
}]}
Mensuration Capabilities: Basic
Has Histograms: true
Has Colormap: false
Has Multi Dimensions : false
Rendering Rule:
Min Scale: 0
Max Scale: 0
Copyright Text:
Service Data Type: esriImageServiceDataTypeProcessed
Min Values: 3
Max Values: 238
Mean Values: 209.91695126628068
Standard Deviation Values: 30.58748716061651
Object ID Field:
Fields:
None
Default Mosaic Method: Center
Allowed Mosaic Methods:
SortField:
SortValue: null
Mosaic Operator: First
Default Compression Quality: 75
Default Resampling Method: Bilinear
Max Record Count: null
Max Image Height: 4100
Max Image Width: 15000
Max Download Image Count: null
Max Mosaic Image Count: null
Allow Raster Function: true
Allow Copy: true
Allow Analysis: true
Allow Compute TiePoints: false
Supports Statistics: false
Supports Advanced Queries: false
Use StandardizedQueries: true
Raster Type Infos:
Name: Raster Dataset
Description: Supports all ArcGIS Raster Datasets
Help:
Has Raster Attribute Table: true
Edit Fields Info: null
Ownership Based AccessControl For Rasters: null
Child Resources:
Info
Raster Attribute Table
Histograms
Statistics
Key Properties
Legend
Raster Function Infos
Supported Operations:
Export Image
Identify
Add Rasters
Update Raster
Delete Rasters
Measure
Compute Histograms
Compute Statistics Histograms
Get Samples
Compute Class Statistics
Query Boundary
Compute Pixel Location
Compute Angles
Validate
Project