{
 "currentVersion": 10.91,
 "serviceDescription": "Multi-directional relief map service for La Crosse County, WI. Created from 20917 La Crosse County LiDAR flight. ",
 "name": "AGOL_ImageServices/Hillshade_MultiDirectional_2017",
 "description": "Multi-directional relief map service for La Crosse County, WI. Created from 20917 La Crosse County LiDAR flight. ",
 "extent": {
  "xmin": 1593022.68620563,
  "ymin": 629847.73188282,
  "xmax": 1729009.59043035,
  "ymax": 764571.7978057,
  "spatialReference": {
   "wkt": "PROJCS[\"Lambert_Conformal_Conic_2SP\",GEOGCS[\"GCS_Ellipse_Based\",DATUM[\"D_Ellipse_Based\",SPHEROID[\"Unknown\",6378137.0,298.257222101]],PRIMEM[\"Greenwich\",0.0],UNIT[\"Degree\",0.0174532925199433]],PROJECTION[\"Lambert_Conformal_Conic\"],PARAMETER[\"false_easting\",1968503.937007874],PARAMETER[\"false_northing\",0.0],PARAMETER[\"central_meridian\",-90.0],PARAMETER[\"standard_parallel_1\",42.73333333333333],PARAMETER[\"standard_parallel_2\",44.06666666666667],PARAMETER[\"latitude_of_origin\",42.0],UNIT[\"Foot (International)\",0.3048]]"
  }
 },
 "initialExtent": {
  "xmin": 1593022.68620563,
  "ymin": 629847.73188282,
  "xmax": 1729009.59043035,
  "ymax": 764571.7978057,
  "spatialReference": {
   "wkt": "PROJCS[\"Lambert_Conformal_Conic_2SP\",GEOGCS[\"GCS_Ellipse_Based\",DATUM[\"D_Ellipse_Based\",SPHEROID[\"Unknown\",6378137.0,298.257222101]],PRIMEM[\"Greenwich\",0.0],UNIT[\"Degree\",0.0174532925199433]],PROJECTION[\"Lambert_Conformal_Conic\"],PARAMETER[\"false_easting\",1968503.937007874],PARAMETER[\"false_northing\",0.0],PARAMETER[\"central_meridian\",-90.0],PARAMETER[\"standard_parallel_1\",42.73333333333333],PARAMETER[\"standard_parallel_2\",44.06666666666667],PARAMETER[\"latitude_of_origin\",42.0],UNIT[\"Foot (International)\",0.3048]]"
  }
 },
 "fullExtent": {
  "xmin": 1593022.68620563,
  "ymin": 629847.73188282,
  "xmax": 1729009.59043035,
  "ymax": 764571.7978057,
  "spatialReference": {
   "wkt": "PROJCS[\"Lambert_Conformal_Conic_2SP\",GEOGCS[\"GCS_Ellipse_Based\",DATUM[\"D_Ellipse_Based\",SPHEROID[\"Unknown\",6378137.0,298.257222101]],PRIMEM[\"Greenwich\",0.0],UNIT[\"Degree\",0.0174532925199433]],PROJECTION[\"Lambert_Conformal_Conic\"],PARAMETER[\"false_easting\",1968503.937007874],PARAMETER[\"false_northing\",0.0],PARAMETER[\"central_meridian\",-90.0],PARAMETER[\"standard_parallel_1\",42.73333333333333],PARAMETER[\"standard_parallel_2\",44.06666666666667],PARAMETER[\"latitude_of_origin\",42.0],UNIT[\"Foot (International)\",0.3048]]"
  }
 },
 "hasMultidimensions": false,
 "pixelSizeX": 1.9981618700000012,
 "pixelSizeY": 1.9981618699999995,
 "datasetFormat": "SDR",
 "uncompressedSize": 4588607744,
 "blockWidth": 128,
 "blockHeight": 128,
 "compressionType": "LZ77",
 "bandNames": [
  "Band_1"
 ],
 "allowCopy": true,
 "allowAnalysis": true,
 "bandCount": 1,
 "pixelType": "U8",
 "minPixelSize": 0,
 "maxPixelSize": 0,
 "copyrightText": "",
 "serviceDataType": "esriImageServiceDataTypeProcessed",
 "serviceSourceType": "esriImageServiceSourceTypeDataset",
 "minValues": [
  3
 ],
 "maxValues": [
  238
 ],
 "meanValues": [
  209.91695126628068
 ],
 "stdvValues": [
  30.58748716061651
 ],
 "objectIdField": "",
 "fields": [],
 "capabilities": "Edit,Mensuration,Image,Metadata",
 "defaultMosaicMethod": "Center",
 "allowedMosaicMethods": "",
 "sortField": "",
 "sortValue": null,
 "sortAscending": true,
 "mosaicOperator": "First",
 "defaultCompressionQuality": 75,
 "defaultResamplingMethod": "Bilinear",
 "maxImageHeight": 4100,
 "maxImageWidth": 15000,
 "allowRasterFunction": true,
 "rasterFunctionInfos": [
  {
   "name": "None",
   "description": "",
   "help": ""
  }
 ],
 "rasterTypeInfos": [
  {
   "name": "Raster Dataset",
   "description": "Supports all ArcGIS Raster Datasets",
   "help": ""
  }
 ],
 "mensurationCapabilities": "Basic",
 "hasHistograms": true,
 "hasColormap": false,
 "hasRasterAttributeTable": true,
 "minScale": 0,
 "maxScale": 0,
 "exportTilesAllowed": false,
 "supportsStatistics": false,
 "supportsAdvancedQueries": false,
 "editFieldsInfo": null,
 "ownershipBasedAccessControlForRasters": null,
 "allowComputeTiePoints": false,
 "useStandardizedQueries": true,
 "advancedQueryCapabilities": {
  "useStandardizedQueries": true,
  "supportsStatistics": false,
  "supportsOrderBy": false,
  "supportsDistinct": false,
  "supportsPagination": false
 },
 "spatialReference": {
  "wkt": "PROJCS[\"Lambert_Conformal_Conic_2SP\",GEOGCS[\"GCS_Ellipse_Based\",DATUM[\"D_Ellipse_Based\",SPHEROID[\"Unknown\",6378137.0,298.257222101]],PRIMEM[\"Greenwich\",0.0],UNIT[\"Degree\",0.0174532925199433]],PROJECTION[\"Lambert_Conformal_Conic\"],PARAMETER[\"false_easting\",1968503.937007874],PARAMETER[\"false_northing\",0.0],PARAMETER[\"central_meridian\",-90.0],PARAMETER[\"standard_parallel_1\",42.73333333333333],PARAMETER[\"standard_parallel_2\",44.06666666666667],PARAMETER[\"latitude_of_origin\",42.0],UNIT[\"Foot (International)\",0.3048]]"
 }
}
