View In:
ArcGIS JavaScript
ArcGIS Online Map Viewer
ArcGIS Earth
ArcMap
View Footprint In:
ArcGIS Online Map Viewer
Service Description: Testing republishing slope from M Drive due to certificate error on O Drive
Name: AGOL_ImageServices/lax_dem_10sl
Description: Testing republishing slope from M Drive due to certificate error on O Drive
Single Fused Map Cache: false
Extent:
XMin: 1593024
YMin: 629848
XMax: 1729004
YMax: 764568
Spatial Reference: 103191
(6609)
VCSWkid(105703)
LatestVCSWkid(6360)
Initial Extent:
XMin: 1593024
YMin: 629848
XMax: 1729004
YMax: 764568
Spatial Reference: 103191
(6609)
VCSWkid(105703)
LatestVCSWkid(6360)
Full Extent:
XMin: 1593024
YMin: 629848
XMax: 1729004
YMax: 764568
Spatial Reference: 103191
(6609)
VCSWkid(105703)
LatestVCSWkid(6360)
Pixel Size X: 10.0
Pixel Size Y: 10.0
Band Count: 1
Pixel Type: F32
RasterFunction Infos: {"rasterFunctionInfos": [{
"name": "None",
"description": "",
"help": ""
}]}
Mensuration Capabilities: Basic
Has Histograms: true
Has Colormap: false
Has Multi Dimensions : false
Rendering Rule:
Min Scale: 0
Max Scale: 0
Copyright Text:
Service Data Type: esriImageServiceDataTypeGeneric
Min Values: 0
Max Values: 518.6603393554688
Mean Values: 17.105632473192447
Standard Deviation Values: 17.09260148175552
Object ID Field:
Fields:
None
Default Mosaic Method: Center
Allowed Mosaic Methods:
SortField:
SortValue: null
Mosaic Operator: First
Default Compression Quality: 75
Default Resampling Method: Bilinear
Max Record Count: null
Max Image Height: 4100
Max Image Width: 15000
Max Download Image Count: null
Max Mosaic Image Count: null
Allow Raster Function: true
Allow Copy: null
Allow Analysis: null
Allow Compute TiePoints: false
Supports Statistics: false
Supports Advanced Queries: false
Use StandardizedQueries: true
Raster Type Infos:
Name: Raster Dataset
Description: Supports all ArcGIS Raster Datasets
Help:
Has Raster Attribute Table: false
Edit Fields Info: null
Ownership Based AccessControl For Rasters: null
Child Resources:
Info
Histograms
Key Properties
Legend
Raster Function Infos
Supported Operations:
Export Image
Identify
Measure
Compute Histograms
Compute Statistics Histograms
Get Samples
Compute Class Statistics
Query Boundary
Compute Pixel Location
Compute Angles
Validate
Project