<?xml version="1.0" encoding="UTF-8" standalone="no"?>
<metadata xml:lang="en">
<Esri>
<CreaDate>20210603</CreaDate>
<CreaTime>10483200</CreaTime>
<ArcGISFormat>1.0</ArcGISFormat>
<SyncOnce>FALSE</SyncOnce>
<DataProperties>
<itemProps>
<itemName Sync="TRUE">lax_hill_md</itemName>
<imsContentType Sync="TRUE">002</imsContentType>
<nativeExtBox>
<westBL Sync="TRUE">1593022.686206</westBL>
<eastBL Sync="TRUE">1729009.590430</eastBL>
<southBL Sync="TRUE">629847.731883</southBL>
<northBL Sync="TRUE">764571.797806</northBL>
<exTypeCode Sync="TRUE">1</exTypeCode>
</nativeExtBox>
</itemProps>
<coordRef>
<type Sync="TRUE">Projected</type>
<geogcsn Sync="TRUE">GCS_Ellipse_Based</geogcsn>
<csUnits Sync="TRUE">Linear Unit: Foot (International) (0.304800)</csUnits>
<projcsn Sync="TRUE">Lambert_Conformal_Conic_2SP</projcsn>
<peXml Sync="TRUE">&lt;ProjectedCoordinateSystem xsi:type='typens:ProjectedCoordinateSystem' xmlns:xsi='http://www.w3.org/2001/XMLSchema-instance' xmlns:xs='http://www.w3.org/2001/XMLSchema' xmlns:typens='http://www.esri.com/schemas/ArcGIS/2.8.0'&gt;&lt;WKT&gt;PROJCS[&amp;quot;Lambert_Conformal_Conic_2SP&amp;quot;,GEOGCS[&amp;quot;GCS_Ellipse_Based&amp;quot;,DATUM[&amp;quot;D_Ellipse_Based&amp;quot;,SPHEROID[&amp;quot;Unknown&amp;quot;,6378137.0,298.257222101]],PRIMEM[&amp;quot;Greenwich&amp;quot;,0.0],UNIT[&amp;quot;Degree&amp;quot;,0.0174532925199433]],PROJECTION[&amp;quot;Lambert_Conformal_Conic&amp;quot;],PARAMETER[&amp;quot;false_easting&amp;quot;,1968503.937007874],PARAMETER[&amp;quot;false_northing&amp;quot;,0.0],PARAMETER[&amp;quot;central_meridian&amp;quot;,-90.0],PARAMETER[&amp;quot;standard_parallel_1&amp;quot;,42.73333333333333],PARAMETER[&amp;quot;standard_parallel_2&amp;quot;,44.06666666666667],PARAMETER[&amp;quot;latitude_of_origin&amp;quot;,42.0],UNIT[&amp;quot;Foot (International)&amp;quot;,0.3048]]&lt;/WKT&gt;&lt;XOrigin&gt;-118121600&lt;/XOrigin&gt;&lt;YOrigin&gt;-97418500&lt;/YOrigin&gt;&lt;XYScale&gt;37501839.263773575&lt;/XYScale&gt;&lt;ZOrigin&gt;-100000&lt;/ZOrigin&gt;&lt;ZScale&gt;10000&lt;/ZScale&gt;&lt;MOrigin&gt;-100000&lt;/MOrigin&gt;&lt;MScale&gt;10000&lt;/MScale&gt;&lt;XYTolerance&gt;0.0032808398950131233&lt;/XYTolerance&gt;&lt;ZTolerance&gt;0.001&lt;/ZTolerance&gt;&lt;MTolerance&gt;0.001&lt;/MTolerance&gt;&lt;HighPrecision&gt;true&lt;/HighPrecision&gt;&lt;/ProjectedCoordinateSystem&gt;</peXml>
</coordRef>
<RasterProperties>
<General>
<PixelDepth Sync="TRUE">8</PixelDepth>
<HasColormap Sync="TRUE">FALSE</HasColormap>
<CompressionType Sync="TRUE">RLE</CompressionType>
<NumBands Sync="TRUE">1</NumBands>
<Format Sync="TRUE">GRID</Format>
<HasPyramids Sync="TRUE">TRUE</HasPyramids>
<SourceType Sync="TRUE">continuous</SourceType>
<PixelType Sync="TRUE">unsigned integer</PixelType>
<NoDataValue Sync="TRUE">0</NoDataValue>
</General>
</RasterProperties>
</DataProperties>
<SyncDate>20210603</SyncDate>
<SyncTime>10483200</SyncTime>
<ModDate>20210603</ModDate>
<ModTime>10483200</ModTime>
</Esri>
<dataIdInfo>
<envirDesc Sync="FALSE">Esri ArcGIS 12.8.0.29751</envirDesc>
<dataLang>
<languageCode Sync="TRUE" value="eng">
</languageCode>
<countryCode Sync="TRUE" value="USA">
</countryCode>
</dataLang>
<idCitation>
<resTitle Sync="TRUE">lax_hill_md</resTitle>
<presForm>
<PresFormCd Sync="TRUE" value="005">
</PresFormCd>
</presForm>
</idCitation>
<spatRpType>
<SpatRepTypCd Sync="TRUE" value="002">
</SpatRepTypCd>
</spatRpType>
<dataExt>
<geoEle>
<GeoBndBox esriExtentType="search">
<exTypeCode Sync="TRUE">1</exTypeCode>
<westBL Sync="TRUE">-91.429104</westBL>
<eastBL Sync="TRUE">-90.906011</eastBL>
<northBL Sync="TRUE">44.094097</northBL>
<southBL Sync="TRUE">43.719328</southBL>
</GeoBndBox>
</geoEle>
</dataExt>
<idAbs>Multi-directional relief map service for La Crosse County, WI. Created from 20917 La Crosse County LiDAR flight. </idAbs>
<searchKeys>
<keyword>Elevation</keyword>
<keyword>GIS</keyword>
<keyword>Hillshade</keyword>
<keyword>La Crosse County</keyword>
<keyword>LiDAR</keyword>
</searchKeys>
<idPurp>Hillshade relief image service for La Crosse County, WI.</idPurp>
<idCredit/>
<resConst>
<Consts>
<useLimit/>
</Consts>
</resConst>
</dataIdInfo>
<mdLang>
<languageCode Sync="TRUE" value="eng">
</languageCode>
<countryCode Sync="TRUE" value="USA">
</countryCode>
</mdLang>
<mdChar>
<CharSetCd Sync="TRUE" value="004">
</CharSetCd>
</mdChar>
<distInfo>
<distFormat>
<formatName Sync="TRUE">Raster Dataset</formatName>
</distFormat>
</distInfo>
<mdHrLv>
<ScopeCd Sync="TRUE" value="005">
</ScopeCd>
</mdHrLv>
<mdHrLvName Sync="TRUE">dataset</mdHrLvName>
<refSysInfo>
<RefSystem>
<refSysID>
<identCode Sync="TRUE" code="0">
</identCode>
</refSysID>
</RefSystem>
</refSysInfo>
<spatRepInfo>
<Georect>
<cellGeo>
<CellGeoCd Sync="TRUE" value="002">
</CellGeoCd>
</cellGeo>
<numDims Sync="TRUE">2</numDims>
<tranParaAv Sync="TRUE">1</tranParaAv>
<chkPtAv Sync="TRUE">0</chkPtAv>
<cornerPts>
<pos Sync="TRUE">1593022.686206 629847.731883</pos>
</cornerPts>
<cornerPts>
<pos Sync="TRUE">1593022.686206 764571.797806</pos>
</cornerPts>
<cornerPts>
<pos Sync="TRUE">1729009.590430 764571.797806</pos>
</cornerPts>
<cornerPts>
<pos Sync="TRUE">1729009.590430 629847.731883</pos>
</cornerPts>
<centerPt>
<pos Sync="TRUE">1661016.138318 697209.764844</pos>
</centerPt>
<axisDimension type="002">
<dimSize Sync="TRUE">68056</dimSize>
<dimResol>
<value Sync="TRUE" uom="ft">1.998162</value>
</dimResol>
</axisDimension>
<axisDimension type="001">
<dimSize Sync="TRUE">67424</dimSize>
<dimResol>
<value Sync="TRUE" uom="ft">1.998162</value>
</dimResol>
</axisDimension>
<ptInPixel>
<PixOrientCd Sync="TRUE" value="001">
</PixOrientCd>
</ptInPixel>
</Georect>
</spatRepInfo>
<eainfo>
<detailed Name="lax_hill_md.vat">
<enttyp>
<enttypl Sync="TRUE">lax_hill_md.vat</enttypl>
<enttypt Sync="TRUE">Table</enttypt>
<enttypc Sync="TRUE">236</enttypc>
</enttyp>
<attr>
<attrlabl Sync="TRUE">Rowid</attrlabl>
<attalias Sync="TRUE">Rowid</attalias>
<attrtype Sync="TRUE">OID</attrtype>
<attwidth Sync="TRUE">4</attwidth>
<atprecis Sync="TRUE">0</atprecis>
<attscale Sync="TRUE">0</attscale>
<attrdef Sync="TRUE">Internal feature number.</attrdef>
<attrdefs Sync="TRUE">Esri</attrdefs>
<attrdomv>
<udom Sync="TRUE">Sequential unique whole numbers that are automatically generated.</udom>
</attrdomv>
</attr>
<attr>
<attrlabl Sync="TRUE">VALUE</attrlabl>
<attalias Sync="TRUE">VALUE</attalias>
<attrtype Sync="TRUE">Integer</attrtype>
<attwidth Sync="TRUE">4</attwidth>
<atprecis Sync="TRUE">0</atprecis>
<attscale Sync="TRUE">0</attscale>
</attr>
<attr>
<attrlabl Sync="TRUE">COUNT</attrlabl>
<attalias Sync="TRUE">COUNT</attalias>
<attrtype Sync="TRUE">Integer</attrtype>
<attwidth Sync="TRUE">4</attwidth>
<atprecis Sync="TRUE">0</atprecis>
<attscale Sync="TRUE">0</attscale>
</attr>
</detailed>
</eainfo>
<contInfo>
<ImgDesc>
<contentTyp>
<ContentTypCd Sync="TRUE" value="003">
</ContentTypCd>
</contentTyp>
<covDim>
<Band>
<dimDescrp Sync="TRUE">lax_hill_md</dimDescrp>
<maxVal Sync="TRUE">238.000000</maxVal>
<minVal Sync="TRUE">3.000000</minVal>
<bitsPerVal Sync="TRUE">8</bitsPerVal>
<valUnit>
<UOM type="length">
</UOM>
</valUnit>
</Band>
</covDim>
</ImgDesc>
</contInfo>
<mdDateSt Sync="TRUE">20210603</mdDateSt>
</metadata>
